BEGIN:VCALENDAR
VERSION:2.0
PRODID:-//Colegio Internacional Discovery - ECPv6.15.13//NONSGML v1.0//EN
CALSCALE:GREGORIAN
METHOD:PUBLISH
X-WR-CALNAME:Colegio Internacional Discovery
X-ORIGINAL-URL:https://colegiodiscovery.edu.mx
X-WR-CALDESC:Eventos para Colegio Internacional Discovery
REFRESH-INTERVAL;VALUE=DURATION:PT1H
X-Robots-Tag:noindex
X-PUBLISHED-TTL:PT1H
BEGIN:VTIMEZONE
TZID:UTC
BEGIN:STANDARD
TZOFFSETFROM:+0000
TZOFFSETTO:+0000
TZNAME:UTC
DTSTART:20240101T000000
END:STANDARD
END:VTIMEZONE
BEGIN:VEVENT
DTSTART;TZID=UTC:20250507T080000
DTEND;TZID=UTC:20250507T170000
DTSTAMP:20260425T120707
CREATED:20250508T193457Z
LAST-MODIFIED:20250515T203652Z
UID:11579-1746604800-1746637200@colegiodiscovery.edu.mx
SUMMARY:Feliz día de las madres
DESCRIPTION:Día de las Madres en Discovery: un homenaje lleno de amor\, reflexión y talento 🌷💖🎭 \n\n\n\nEn el Colegio Discovery celebramos el Día de las Madres con un evento muy especial dedicado a quienes son el corazón de cada familia. Fue una jornada emotiva y enriquecedora en la que nuestras mamás vivieron momentos significativos de reflexión\, alegría y orgullo. \n\n\n\nEl evento dio inicio con la conferencia “Mamás de algodón\, hijos de cristal”\, impartida por la reconocida Dra. María Pía Rodríguez Regordo\, quien brindó herramientas valiosas y una mirada profunda sobre la crianza actual. Fue un espacio íntimo de conexión\, reflexión y guía para fortalecer el rol materno con amor\, firmeza y equilibrio. \n\n\n\nPosteriormente\, nuestras mamás fueron homenajeadas con un programa lleno de talento y emociones\, donde nuestros alumnos desde maternal hasta high school ofrecieron presentaciones artísticas preparadas con gran cariño. A través de canciones\, bailes y palabras\, los explorers demostraron cuánto valoran y admiran a sus madres\, llenando el escenario de ternura\, creatividad y alegría. \n\n\n\nFue un día para atesorar\, en el que celebramos no solo a las mamás\, sino también la poderosa conexión entre familia y escuela que hace posible formar generaciones sensibles\, conscientes y fuertes. \n\n\n\n¡Gracias a todas nuestras mamás por su amor incondicional y por ser parte esencial de la familia Discovery!
URL:https://colegiodiscovery.edu.mx/event/feliz-dia-de-las-madres/
CATEGORIES:Eventos Discovery
ATTACH;FMTTYPE=image/jpeg:https://colegiodiscovery.edu.mx/wp-content/uploads/2025/05/dia-de-las-madres.jpeg
END:VEVENT
END:VCALENDAR