BEGIN:VCALENDAR
VERSION:2.0
PRODID:-//Colegio Internacional Discovery - ECPv6.15.13//NONSGML v1.0//EN
CALSCALE:GREGORIAN
METHOD:PUBLISH
X-WR-CALNAME:Colegio Internacional Discovery
X-ORIGINAL-URL:https://colegiodiscovery.edu.mx
X-WR-CALDESC:Eventos para Colegio Internacional Discovery
REFRESH-INTERVAL;VALUE=DURATION:PT1H
X-Robots-Tag:noindex
X-PUBLISHED-TTL:PT1H
BEGIN:VTIMEZONE
TZID:UTC
BEGIN:STANDARD
TZOFFSETFROM:+0000
TZOFFSETTO:+0000
TZNAME:UTC
DTSTART:20240101T000000
END:STANDARD
END:VTIMEZONE
BEGIN:VEVENT
DTSTART;TZID=UTC:20250404T180000
DTEND;TZID=UTC:20250404T200000
DTSTAMP:20260425T134527
CREATED:20250403T233523Z
LAST-MODIFIED:20250508T191859Z
UID:11513-1743789600-1743796800@colegiodiscovery.edu.mx
SUMMARY:Día del Arte
DESCRIPTION:Día del Arte 2025 en Discovery: Una explosión de creatividad con espíritu rockero 🎸🎨 \n\n\n\nEste 4 de abril\, Discovery vivió una jornada inolvidable llena de expresión artística\, talento y mucha actitud durante la celebración del esperado Día del Arte\, que este año tuvo como temática central el Rock. Desde los más pequeños hasta los más grandes\, nuestros explorers demostraron que el arte es una poderosa forma de comunicación\, identidad y celebración de la diversidad creativa. \n\n\n\nEl evento se convirtió en un auténtico festival de emociones y color\, donde los pasillos y espacios del colegio se transformaron en escenarios vibrantes. Cada rincón respiraba arte\, y el espíritu del rock se sintió en cada detalle: desde la decoración hasta la energía contagiosa de los participantes. \n\n\n\nLos estudiantes presentaron una amplia variedad de manifestaciones artísticas\, comenzando con impactantes coreografías de baile que encendieron al público\, seguidas por interpretaciones musicales en vivo que incluían clásicos del rock\, ejecutados con gran habilidad y entusiasmo. Las obras de teatro y sketches pusieron en evidencia su creatividad y dominio escénico\, abordando temáticas inspiradoras\, cómicas e incluso reflexivas\, con una chispa muy rockera. \n\n\n\nPor otro lado\, las exposiciones de pintura y origami fueron un deleite visual. Las paredes se llenaron de color con obras inspiradas en íconos del rock\, paisajes urbanos\, emociones y conceptos abstractos. El origami sorprendió con formas innovadoras\, combinando técnica y creatividad de forma magistral. \n\n\n\nEste evento no solo permitió a los alumnos expresar su individualidad\, sino que también fomentó el trabajo en equipo\, la planificación y la audacia —un valor fundamental del Modelo IB— al enfrentarse con seguridad y determinación a escenarios desafiantes. La participación activa de la comunidad educativa\, incluyendo docentes y familias\, hizo de este día una verdadera celebración del talento que vive y crece dentro de Discovery. \n\n\n\nSin duda\, el Día del Arte 2025 dejó una huella imborrable en todos los asistentes. Fue una experiencia que nos recordó la importancia de abrir espacios para que los estudiantes exploren su lado artístico\, se expresen con libertad y celebren quiénes son a través del arte. \n\n\n\n¡Larga vida al arte y al espíritu rockero en Discovery! 🤘🎶
URL:https://colegiodiscovery.edu.mx/event/11513/
CATEGORIES:Eventos Discovery
ATTACH;FMTTYPE=image/jpeg:https://colegiodiscovery.edu.mx/wp-content/uploads/2025/04/IMG_4724.jpg
END:VEVENT
BEGIN:VEVENT
DTSTART;TZID=UTC:20250430T080000
DTEND;TZID=UTC:20250430T170000
DTSTAMP:20260425T134527
CREATED:20250430T193100Z
LAST-MODIFIED:20250508T193303Z
UID:11564-1746000000-1746032400@colegiodiscovery.edu.mx
SUMMARY:Festejo día del niño
DESCRIPTION:¡Un Día del niño lleno de alegría en Discovery! 🎉 \n\n\n\nEl pasado 30 de abril celebramos con gran entusiasmo el Día del Niño en el Colegio Discovery\, una jornada mágica en la que nuestros alumnos fueron los protagonistas. Desde los más pequeños hasta los más grandes\, todos disfrutaron de un día inolvidable lleno de sonrisas\, juegos y sorpresas. \n\n\n\nNuestros maestros\, con mucho cariño y dedicación\, prepararon actividades especiales diseñadas para hacerlos sentir únicos y celebrados. Hubo dinámicas divertidas\, shows\, estaciones de juegos\, música\, dulces y momentos que quedarán en la memoria de todos. \n\n\n\nLa felicidad se notaba en cada rincón del colegio: risas que contagiaban\, ojos brillando de emoción y abrazos espontáneos entre compañeros y docentes. Fue un día en el que reafirmamos que la infancia es una etapa maravillosa que merece ser vivida con plenitud y alegría. \n\n\n\nEn Discovery\, seguimos creando espacios seguros\, alegres y enriquecedores donde nuestros niños puedan crecer siendo felices.
URL:https://colegiodiscovery.edu.mx/event/festejo-dia-del-nino/
CATEGORIES:Eventos Discovery
ATTACH;FMTTYPE=image/jpeg:https://colegiodiscovery.edu.mx/wp-content/uploads/2025/05/Portada-dia-del-nino-2-scaled.jpg
END:VEVENT
END:VCALENDAR