BEGIN:VCALENDAR
VERSION:2.0
PRODID:-//Colegio Internacional Discovery - ECPv6.15.13//NONSGML v1.0//EN
CALSCALE:GREGORIAN
METHOD:PUBLISH
X-WR-CALNAME:Colegio Internacional Discovery
X-ORIGINAL-URL:https://colegiodiscovery.edu.mx
X-WR-CALDESC:Eventos para Colegio Internacional Discovery
REFRESH-INTERVAL;VALUE=DURATION:PT1H
X-Robots-Tag:noindex
X-PUBLISHED-TTL:PT1H
BEGIN:VTIMEZONE
TZID:UTC
BEGIN:STANDARD
TZOFFSETFROM:+0000
TZOFFSETTO:+0000
TZNAME:UTC
DTSTART:20240101T000000
END:STANDARD
END:VTIMEZONE
BEGIN:VEVENT
DTSTART;TZID=UTC:20250227T080000
DTEND;TZID=UTC:20250227T170000
DTSTAMP:20260425T173208
CREATED:20250408T174915Z
LAST-MODIFIED:20250508T193700Z
UID:11522-1740643200-1740675600@colegiodiscovery.edu.mx
SUMMARY:Miniolimpiadas 2025
DESCRIPTION:Miniolimpiadas Discovery: ¡una jornada de energía\, unión y mucho espíritu deportivo! 🏅🎽🎉 \n\n\n\nNuestro evento de Miniolimpiadas fue todo un éxito y una verdadera fiesta deportiva en la que nuestros alumnos demostraron entusiasmo\, habilidades y\, sobre todo\, un gran espíritu de compañerismo. Desde las primeras actividades\, la emoción se sintió en el ambiente\, y cada prueba fue una oportunidad para que los niños dieran lo mejor de sí con alegría y determinación. \n\n\n\nContamos con la valiosa presencia y apoyo de los padres de familia\, quienes animaron con entusiasmo a sus pequeños\, acompañándolos en cada reto y celebrando sus logros con orgullo. Fue una jornada que no solo fortaleció el cuerpo\, sino también los lazos entre escuela y hogar. \n\n\n\nLas diferentes pruebas\, cuidadosamente organizadas por nuestros docentes\, permitieron a los niños experimentar el deporte desde el juego\, la sana competencia y el trabajo en equipo. Más allá de las medallas\, cada sonrisa y cada aplauso reflejaron el verdadero espíritu de esta celebración. \n\n\n\nGracias a todas las familias por ser parte activa de esta experiencia inolvidable. ¡En Discovery\, seguimos formando alumnos fuertes\, felices y apasionados por superarse cada día!
URL:https://colegiodiscovery.edu.mx/event/11522/
ATTACH;FMTTYPE=image/jpeg:https://colegiodiscovery.edu.mx/wp-content/uploads/2025/04/MINIOLIMPIADAS-scaled.jpg
END:VEVENT
BEGIN:VEVENT
DTSTART;TZID=UTC:20250228T180000
DTEND;TZID=UTC:20250228T203000
DTSTAMP:20260425T173208
CREATED:20250403T055957Z
LAST-MODIFIED:20250508T193843Z
UID:11372-1740765600-1740774600@colegiodiscovery.edu.mx
SUMMARY:Aniversario 22 Discovery
DESCRIPTION:¡Celebramos 22 años de historia\, crecimiento y comunidad en Discovery! 🎉📚 \n\n\n\nEste 28 de febrero\, el Colegio Discovery celebró con gran orgullo su 22º aniversario\, un momento lleno de emoción\, recuerdos y gratitud. Fue una jornada especial en la que compartimos nuestra historia\, recordando los inicios de este sueño educativo que ha crecido con fuerza\, compromiso y pasión por transformar vidas. \n\n\n\nDurante el evento\, docentes\, alumnos\, exalumnos y familias se unieron para celebrar más de dos décadas de aprendizajes\, logros y experiencias compartidas. A través de emotivos mensajes\, actividades especiales y momentos simbólicos\, reafirmamos lo fuerte que somos como comunidad y lo mucho que hemos construido juntos. \n\n\n\nCada palabra\, cada recuerdo y cada sonrisa reflejaron el profundo lazo que nos une. Discovery no es solo una institución educativa\, es un espacio donde florecen valores\, se impulsa el talento y se cultiva el amor por aprender. \n\n\n\nGracias a todos los que han sido parte de esta historia. ¡Seguimos adelante con la misma pasión que nos vio nacer\, listos para seguir creciendo juntos muchos años más!
URL:https://colegiodiscovery.edu.mx/event/lets-22-celebrate/
CATEGORIES:Eventos Discovery
ATTACH;FMTTYPE=image/jpeg:https://colegiodiscovery.edu.mx/wp-content/uploads/2025/04/aniversario-scaled.jpg
END:VEVENT
END:VCALENDAR